BEGIN:VCALENDAR
VERSION:2.0
PRODID:-//Moulin de bayerel - ECPv6.8.0//NONSGML v1.0//EN
CALSCALE:GREGORIAN
METHOD:PUBLISH
X-WR-CALNAME:Moulin de bayerel
X-ORIGINAL-URL:https://moulin-de-bayerel.ch
X-WR-CALDESC:Évènements pour Moulin de bayerel
REFRESH-INTERVAL;VALUE=DURATION:PT1H
X-Robots-Tag:noindex
X-PUBLISHED-TTL:PT1H
BEGIN:VTIMEZONE
TZID:Europe/Zurich
BEGIN:DAYLIGHT
TZOFFSETFROM:+0100
TZOFFSETTO:+0200
TZNAME:CEST
DTSTART:20230326T010000
END:DAYLIGHT
BEGIN:STANDARD
TZOFFSETFROM:+0200
TZOFFSETTO:+0100
TZNAME:CET
DTSTART:20231029T010000
END:STANDARD
END:VTIMEZONE
BEGIN:VEVENT
DTSTART;TZID=Europe/Zurich:20230318T160000
DTEND;TZID=Europe/Zurich:20230318T220000
DTSTAMP:20260426T022318
CREATED:20230215T133038Z
LAST-MODIFIED:20250305T072310Z
UID:2188-1679155200-1679176800@moulin-de-bayerel.ch
SUMMARY:Magie
DESCRIPTION:Cliquez sur le lien suivant pour voir l’affiche : Magie
URL:https://moulin-de-bayerel.ch/event/magie/
LOCATION:Moulin de Bayerel\, Moulin de Bayerel 1\, Saules NE\, NE\, 2063\, Suisse
END:VEVENT
END:VCALENDAR