BEGIN:VCALENDAR
VERSION:2.0
PRODID:-//Moulin de bayerel - ECPv6.8.0//NONSGML v1.0//EN
CALSCALE:GREGORIAN
METHOD:PUBLISH
X-ORIGINAL-URL:https://moulin-de-bayerel.ch
X-WR-CALDESC:Évènements pour Moulin de bayerel
REFRESH-INTERVAL;VALUE=DURATION:PT1H
X-Robots-Tag:noindex
X-PUBLISHED-TTL:PT1H
BEGIN:VTIMEZONE
TZID:Europe/Zurich
BEGIN:DAYLIGHT
TZOFFSETFROM:+0100
TZOFFSETTO:+0200
TZNAME:CEST
DTSTART:20230326T010000
END:DAYLIGHT
BEGIN:STANDARD
TZOFFSETFROM:+0200
TZOFFSETTO:+0100
TZNAME:CET
DTSTART:20231029T010000
END:STANDARD
END:VTIMEZONE
BEGIN:VEVENT
DTSTART;TZID=Europe/Zurich:20231021T190000
DTEND;TZID=Europe/Zurich:20231021T220000
DTSTAMP:20260425T144230
CREATED:20230929T212500Z
LAST-MODIFIED:20230929T222828Z
UID:2382-1697914800-1697925600@moulin-de-bayerel.ch
SUMMARY:Grande Nuit du jazz
DESCRIPTION:
URL:https://moulin-de-bayerel.ch/event/nuit-du-jazz/
LOCATION:Moulin de Bayerel\, Moulin de Bayerel 1\, Saules NE\, NE\, 2063\, Suisse
END:VEVENT
END:VCALENDAR