BEGIN:VCALENDAR
VERSION:2.0
PRODID:-//Moulin de bayerel - ECPv6.8.0//NONSGML v1.0//EN
CALSCALE:GREGORIAN
METHOD:PUBLISH
X-WR-CALNAME:Moulin de bayerel
X-ORIGINAL-URL:https://moulin-de-bayerel.ch
X-WR-CALDESC:Évènements pour Moulin de bayerel
REFRESH-INTERVAL;VALUE=DURATION:PT1H
X-Robots-Tag:noindex
X-PUBLISHED-TTL:PT1H
BEGIN:VTIMEZONE
TZID:Europe/Zurich
BEGIN:DAYLIGHT
TZOFFSETFROM:+0100
TZOFFSETTO:+0200
TZNAME:CEST
DTSTART:20250330T010000
END:DAYLIGHT
BEGIN:STANDARD
TZOFFSETFROM:+0200
TZOFFSETTO:+0100
TZNAME:CET
DTSTART:20251026T010000
END:STANDARD
END:VTIMEZONE
BEGIN:VEVENT
DTSTART;TZID=Europe/Zurich:20250327T190000
DTEND;TZID=Europe/Zurich:20250327T200000
DTSTAMP:20260424T100057
CREATED:20250303T184922Z
LAST-MODIFIED:20250303T184922Z
UID:2576-1743102000-1743105600@moulin-de-bayerel.ch
SUMMARY:Assemblée Générale 2025
DESCRIPTION:procès-verbal AG 2024
URL:https://moulin-de-bayerel.ch/event/assemblee-generale-2025/
LOCATION:Moulin de Bayerel\, Moulin de Bayerel 1\, Saules NE\, NE\, 2063\, Suisse
ORGANIZER;CN="Association Moulin de Bayerel":MAILTO:info@moulin-de-bayerel
END:VEVENT
BEGIN:VEVENT
DTSTART;TZID=Europe/Zurich:20250327T200000
DTEND;TZID=Europe/Zurich:20250327T210000
DTSTAMP:20260424T100057
CREATED:20250303T183419Z
LAST-MODIFIED:20250303T183419Z
UID:2568-1743105600-1743109200@moulin-de-bayerel.ch
SUMMARY:"Les moulins à eau et autres installations hydrauliques d'autrefois dans le Haut-Jura neuchâtelois"
DESCRIPTION:Exposé de Monsieur Raoul Pop
URL:https://moulin-de-bayerel.ch/event/les-moulins-a-eau-et-autres-installations-hydrauliques-dautrefois-dans-le-haut-jura-neuchatelois/
LOCATION:Moulin de Bayerel\, Moulin de Bayerel 1\, Saules NE\, NE\, 2063\, Suisse
ORGANIZER;CN="Association Moulin de Bayerel":MAILTO:info@moulin-de-bayerel
END:VEVENT
END:VCALENDAR